BEGIN:VCALENDAR
VERSION:2.0
PRODID:-//Musikkapelle Elbach - ECPv6.15.20//NONSGML v1.0//EN
CALSCALE:GREGORIAN
METHOD:PUBLISH
X-WR-CALNAME:Musikkapelle Elbach
X-ORIGINAL-URL:http://musikkapelle-elbach.de
X-WR-CALDESC:Veranstaltungen für Musikkapelle Elbach
REFRESH-INTERVAL;VALUE=DURATION:PT1H
X-Robots-Tag:noindex
X-PUBLISHED-TTL:PT1H
BEGIN:VTIMEZONE
TZID:Europe/Berlin
BEGIN:DAYLIGHT
TZOFFSETFROM:+0100
TZOFFSETTO:+0200
TZNAME:CEST
DTSTART:20220327T010000
END:DAYLIGHT
BEGIN:STANDARD
TZOFFSETFROM:+0200
TZOFFSETTO:+0100
TZNAME:CET
DTSTART:20221030T010000
END:STANDARD
BEGIN:DAYLIGHT
TZOFFSETFROM:+0100
TZOFFSETTO:+0200
TZNAME:CEST
DTSTART:20230326T010000
END:DAYLIGHT
BEGIN:STANDARD
TZOFFSETFROM:+0200
TZOFFSETTO:+0100
TZNAME:CET
DTSTART:20231029T010000
END:STANDARD
BEGIN:DAYLIGHT
TZOFFSETFROM:+0100
TZOFFSETTO:+0200
TZNAME:CEST
DTSTART:20240331T010000
END:DAYLIGHT
BEGIN:STANDARD
TZOFFSETFROM:+0200
TZOFFSETTO:+0100
TZNAME:CET
DTSTART:20241027T010000
END:STANDARD
END:VTIMEZONE
BEGIN:VEVENT
DTSTART;TZID=Europe/Berlin:20230401T200000
DTEND;TZID=Europe/Berlin:20230401T220000
DTSTAMP:20260421T124347
CREATED:20230325T145428Z
LAST-MODIFIED:20230326T210312Z
UID:200-1680379200-1680386400@musikkapelle-elbach.de
SUMMARY:Frühjahrskonzert in der Schulturnhalle Elbach
DESCRIPTION:
URL:http://musikkapelle-elbach.de/event/fruehjahrskonzert-in-der-schulturnhalle-elbach/
LOCATION:Schulturnhalle Elbach\, Steingrabenstraße 3\, Fischbachau\, 83730\, Deutschland
END:VEVENT
BEGIN:VEVENT
DTSTART;TZID=Europe/Berlin:20230410T083000
DTEND;TZID=Europe/Berlin:20230410T150000
DTSTAMP:20260421T124347
CREATED:20230402T140519Z
LAST-MODIFIED:20230402T140651Z
UID:522-1681115400-1681138800@musikkapelle-elbach.de
SUMMARY:Jahrtag der Ortsvereine\, Elbach
DESCRIPTION:
URL:http://musikkapelle-elbach.de/event/jahrtag-der-ortsvereine-elbach/
LOCATION:Gasthof Sonnenkaiser\, Leitzachtaltraße 116\, Fischbachau\, 83730\, Deutschland
END:VEVENT
END:VCALENDAR